BEGIN:VCALENDAR
VERSION:2.0
PRODID:-//Walsall Mandhata Youth - ECPv4.7.4//NONSGML v1.0//EN
CALSCALE:GREGORIAN
METHOD:PUBLISH
X-WR-CALNAME:Walsall Mandhata Youth
X-ORIGINAL-URL:http://www.walsallmandhatayouth.org
X-WR-CALDESC:Events for Walsall Mandhata Youth
BEGIN:VEVENT
DTSTART;TZID=Europe/London:20190510T190000
DTEND;TZID=Europe/London:20190510T230000
DTSTAMP:20260425T211326
CREATED:20190121T085345Z
LAST-MODIFIED:20190121T085345Z
UID:3148-1557514800-1557529200@www.walsallmandhatayouth.org
SUMMARY:Bollywood Night
DESCRIPTION:  \n\nTo approve a single suggestion\, mouse over it and click “✔”\nClick the bubble to approve all of its suggestions.\n\n
URL:http://www.walsallmandhatayouth.org/event/bollywood-night-2/
LOCATION:James Bridge Copper Club\, Reservoir Place\, Walsall\, West Midlands\, WS2 9RX\, United Kingdom
END:VEVENT
END:VCALENDAR